BEGIN:VCALENDAR
VERSION:2.0
PRODID:-//Mark Simmons Author - ECPv6.15.20//NONSGML v1.0//EN
CALSCALE:GREGORIAN
METHOD:PUBLISH
X-WR-CALNAME:Mark Simmons Author
X-ORIGINAL-URL:https://marksimmonsauthor.co.uk
X-WR-CALDESC:Events for Mark Simmons Author
REFRESH-INTERVAL;VALUE=DURATION:PT1H
X-Robots-Tag:noindex
X-PUBLISHED-TTL:PT1H
BEGIN:VTIMEZONE
TZID:UTC
BEGIN:STANDARD
TZOFFSETFROM:+0000
TZOFFSETTO:+0000
TZNAME:UTC
DTSTART:20230101T000000
END:STANDARD
END:VTIMEZONE
BEGIN:VTIMEZONE
TZID:Europe/London
BEGIN:DAYLIGHT
TZOFFSETFROM:+0000
TZOFFSETTO:+0100
TZNAME:BST
DTSTART:20230326T010000
END:DAYLIGHT
BEGIN:STANDARD
TZOFFSETFROM:+0100
TZOFFSETTO:+0000
TZNAME:GMT
DTSTART:20231029T010000
END:STANDARD
BEGIN:DAYLIGHT
TZOFFSETFROM:+0000
TZOFFSETTO:+0100
TZNAME:BST
DTSTART:20240331T010000
END:DAYLIGHT
BEGIN:STANDARD
TZOFFSETFROM:+0100
TZOFFSETTO:+0000
TZNAME:GMT
DTSTART:20241027T010000
END:STANDARD
BEGIN:DAYLIGHT
TZOFFSETFROM:+0000
TZOFFSETTO:+0100
TZNAME:BST
DTSTART:20250330T010000
END:DAYLIGHT
BEGIN:STANDARD
TZOFFSETFROM:+0100
TZOFFSETTO:+0000
TZNAME:GMT
DTSTART:20251026T010000
END:STANDARD
END:VTIMEZONE
BEGIN:VEVENT
DTSTART;VALUE=DATE:20261003
DTEND;VALUE=DATE:20261004
DTSTAMP:20260425T140441
CREATED:20260423T125517Z
LAST-MODIFIED:20260423T125517Z
UID:1989-1790985600-1791071999@marksimmonsauthor.co.uk
SUMMARY:Looe Festival of Words
DESCRIPTION:Will be appearing at the Looe Festival of words Saturday 3 October 10am-4pm talking about and selling my books the latest ‘With the Commandos’ will be there. Venue the Hanafore Hotel Looe
URL:https://marksimmonsauthor.co.uk/event/looe-festival-of-words/
CATEGORIES:Author visit
END:VEVENT
BEGIN:VEVENT
DTSTART;TZID=UTC:20260928T080000
DTEND;TZID=UTC:20261004T170000
DTSTAMP:20260425T140441
CREATED:20260217T163039Z
LAST-MODIFIED:20260217T163039Z
UID:1900-1790582400-1791133200@marksimmonsauthor.co.uk
SUMMARY:Looe Festival of Words 2026
DESCRIPTION:Our second year at this event let’s hope it is as good as the first running from 28 September-4 October my appearances to be advised.
URL:https://marksimmonsauthor.co.uk/event/looe-festival-of-words-2026/
ATTACH;FMTTYPE=image/webp:https://marksimmonsauthor.co.uk/wp-content/uploads/2026/02/Hannafore.webp
END:VEVENT
BEGIN:VEVENT
DTSTART;TZID=UTC:20260903T200000
DTEND;TZID=UTC:20260903T210000
DTSTAMP:20260425T140441
CREATED:20260217T163930Z
LAST-MODIFIED:20260217T163930Z
UID:1906-1788465600-1788469200@marksimmonsauthor.co.uk
SUMMARY:Alistair MacLean's War Talk
DESCRIPTION:Will be giving a talk on Alistair MacLean’s War to the Tamar Region Jaguar Enthusiasts Club at the Who’d Have Thought It Inn St. Dominion \non Thursday 3 September starting at 8 pm.
URL:https://marksimmonsauthor.co.uk/event/alistair-macleans-war-talk/
CATEGORIES:Author visit
ATTACH;FMTTYPE=image/jpeg:https://marksimmonsauthor.co.uk/wp-content/uploads/2023/04/AMW-Cover.jpg
END:VEVENT
BEGIN:VEVENT
DTSTART;TZID=UTC:20260806T100000
DTEND;TZID=UTC:20260808T170000
DTSTAMP:20260425T140441
CREATED:20260217T162211Z
LAST-MODIFIED:20260217T162211Z
UID:1892-1786010400-1786208400@marksimmonsauthor.co.uk
SUMMARY:Buckfast Abbey Summer Fair 2026
DESCRIPTION:A new event for us over three days will be selling my own books a selection of good S/H books and Margaret’s knitted items. Thursday 6 August-Saturday 8 August all day events 10am-5pm
URL:https://marksimmonsauthor.co.uk/event/buckfast-abbey-summer-fair-2026/
CATEGORIES:Author visit
ATTACH;FMTTYPE=image/jpeg:https://marksimmonsauthor.co.uk/wp-content/uploads/2026/02/buckfast2.jpg
END:VEVENT
BEGIN:VEVENT
DTSTART;VALUE=DATE:20260628
DTEND;VALUE=DATE:20260629
DTSTAMP:20260425T140441
CREATED:20260217T160413Z
LAST-MODIFIED:20260217T160413Z
UID:1888-1782604800-1782691199@marksimmonsauthor.co.uk
SUMMARY:Tamar Day Jaguar Enthusiasts Club Buckfastleigh Station
DESCRIPTION:Will be running a book stall at this great event selling my own and a good selection of S/H books \nLet’s hope the weather is kind. \nSAMSUNG CAMERA PICTURES
URL:https://marksimmonsauthor.co.uk/event/tamar-day-jaguar-enthusiasts-club-buckfastleigh-station/
CATEGORIES:Author visit
ATTACH;FMTTYPE=image/jpeg:https://marksimmonsauthor.co.uk/wp-content/uploads/2025/07/Buckfastleigh_railway_station_South_Devon_Railway_-_view_towards_Ashburton-scaled.jpg
END:VEVENT
BEGIN:VEVENT
DTSTART;TZID=UTC:20260521T103000
DTEND;TZID=UTC:20260521T113000
DTSTAMP:20260425T140441
CREATED:20260120T122933Z
LAST-MODIFIED:20260120T122933Z
UID:1860-1779359400-1779363000@marksimmonsauthor.co.uk
SUMMARY:Ian Fleming's War talk at Looe Library
DESCRIPTION:I will be giving a talk on my book Ian Fleming’s War at Looe Library on Thursday 21 May 10:30am-11:30am \nwill also be selling copies of my books there along with my new book With the Commandos.
URL:https://marksimmonsauthor.co.uk/event/ian-flemings-war-talk-at-looe-library/
CATEGORIES:Author visit
ATTACH;FMTTYPE=image/jpeg:https://marksimmonsauthor.co.uk/wp-content/uploads/2026/01/A-Talk-on-IFW.jpg
END:VEVENT
BEGIN:VEVENT
DTSTART;VALUE=DATE:20260502
DTEND;VALUE=DATE:20260503
DTSTAMP:20260425T140441
CREATED:20251226T144320Z
LAST-MODIFIED:20251226T144320Z
UID:1788-1777680000-1777766399@marksimmonsauthor.co.uk
SUMMARY:Callington Book Fair Spring 2026
DESCRIPTION:Will be selling my books and a selection of S/H books at the Callington Book Fair the Town Hall Callington Saturday 2 May 10am-4pm
URL:https://marksimmonsauthor.co.uk/event/callington-book-fair-spring-2026/
CATEGORIES:Author visit
END:VEVENT
BEGIN:VEVENT
DTSTART;VALUE=DATE:20260307
DTEND;VALUE=DATE:20260308
DTSTAMP:20260425T140441
CREATED:20251226T143839Z
LAST-MODIFIED:20251226T143839Z
UID:1784-1772841600-1772927999@marksimmonsauthor.co.uk
SUMMARY:Crafthole Book Fair
DESCRIPTION:Will be selling my books and a selection of S/H books at the Crafthole Book Fair at the Sheviock Memorial Hall Crafthole \nSaturday 7 March 10am-4pm
URL:https://marksimmonsauthor.co.uk/event/crafthole-book-fair/
CATEGORIES:Author visit
ATTACH;FMTTYPE=image/jpeg:https://marksimmonsauthor.co.uk/wp-content/uploads/2025/11/sheviock.jpg
END:VEVENT
BEGIN:VEVENT
DTSTART;TZID=UTC:20251210T170000
DTEND;TZID=UTC:20251210T210000
DTSTAMP:20260425T140441
CREATED:20251114T144448Z
LAST-MODIFIED:20251114T144448Z
UID:1759-1765386000-1765400400@marksimmonsauthor.co.uk
SUMMARY:Horizon Craft Fair
DESCRIPTION:Will be selling my books and a selection of S/H books at the Horizon Craft Fair Wednesday 10th December 5pm-9pm \nin Clifford’s café area
URL:https://marksimmonsauthor.co.uk/event/horizon-craft-fair/
END:VEVENT
BEGIN:VEVENT
DTSTART;TZID=UTC:20251205T170000
DTEND;TZID=UTC:20251205T200000
DTSTAMP:20260425T140441
CREATED:20251114T143719Z
LAST-MODIFIED:20251114T143719Z
UID:1753-1764954000-1764964800@marksimmonsauthor.co.uk
SUMMARY:Louis Tea Room Christmas Shopping Night
DESCRIPTION:Will be selling my books and a selection of S/H books at Louis Tea Rooms Christmas Shopping night and Hog Roast on Friday 5th December 5pm-8pm
URL:https://marksimmonsauthor.co.uk/event/louis-tea-room-christmas-shopping-night/
END:VEVENT
BEGIN:VEVENT
DTSTART;VALUE=DATE:20251115
DTEND;VALUE=DATE:20251116
DTSTAMP:20260425T140441
CREATED:20251113T125302Z
LAST-MODIFIED:20251113T125302Z
UID:1747-1763164800-1763251199@marksimmonsauthor.co.uk
SUMMARY:Book Sale Sheviock Memorial Hall
DESCRIPTION:I will be selling my books and a range of S/H books at the Sheviock Memorial Hall\, Crafthole Cornwall on Saturday 15 November 10am-4pm
URL:https://marksimmonsauthor.co.uk/event/book-sale-sheviock-memorial-hall/
END:VEVENT
BEGIN:VEVENT
DTSTART;VALUE=DATE:20251101
DTEND;VALUE=DATE:20251102
DTSTAMP:20260425T140441
CREATED:20250122T103520Z
LAST-MODIFIED:20250122T104818Z
UID:1280-1761955200-1762041599@marksimmonsauthor.co.uk
SUMMARY:Winter Callington Book Fair 1st November
DESCRIPTION:The Winter Callington Book Fair 1 November 10am-3pm \nMeet the authors and book dealers will be selling my own books there. \nTasty cakes and refreshments on site.
URL:https://marksimmonsauthor.co.uk/event/winter-callington-book-fair-1st-november/
END:VEVENT
BEGIN:VEVENT
DTSTART;VALUE=DATE:20251018
DTEND;VALUE=DATE:20251019
DTSTAMP:20260425T140441
CREATED:20251001T144742Z
LAST-MODIFIED:20251001T144742Z
UID:1719-1760745600-1760831999@marksimmonsauthor.co.uk
SUMMARY:Craft Market Horizon Farm
DESCRIPTION:Will be selling my books at the Craft Market Horizon Farm St Clear  next to  Cliffords Café on  Saturday 18th October 10am-4pm
URL:https://marksimmonsauthor.co.uk/event/craft-market-horizon-farm/
END:VEVENT
BEGIN:VEVENT
DTSTART;VALUE=DATE:20251004
DTEND;VALUE=DATE:20251005
DTSTAMP:20260425T140441
CREATED:20250703T134531Z
LAST-MODIFIED:20250703T134531Z
UID:1644-1759536000-1759622399@marksimmonsauthor.co.uk
SUMMARY:Appearing at Looe Festival of Words Book Fair
DESCRIPTION:Will be appearing at Looe Festival of Words Book Fair at the Hannafore Point Hotel on Saturday 4 October 10am-4pm talking about my books and a lot besides. More details at looefestivalofwords@outlook.com
URL:https://marksimmonsauthor.co.uk/event/appearing-at-looe-festival-of-words-book-fair/
END:VEVENT
BEGIN:VEVENT
DTSTART;TZID=UTC:20251003T130000
DTEND;TZID=UTC:20251003T150000
DTSTAMP:20260425T140441
CREATED:20250807T113146Z
LAST-MODIFIED:20250807T113146Z
UID:1698-1759496400-1759503600@marksimmonsauthor.co.uk
SUMMARY:Meet the Author West Looe Book Shop
DESCRIPTION:Katrina the owner of West Looe Book Shop has kindly invited me along  on Friday 3 October to promote my books so do come along for a chat. Hopefully my new book ‘With the Commandos’ should be out by then. Time is 1pm-3pm. This is part of the Looe Festival of Words.
URL:https://marksimmonsauthor.co.uk/event/meet-the-author-west-looe-book-shop/
END:VEVENT
BEGIN:VEVENT
DTSTART;TZID=UTC:20250908T120000
DTEND;TZID=UTC:20250908T123000
DTSTAMP:20260425T140441
CREATED:20250818T090920Z
LAST-MODIFIED:20250818T090920Z
UID:1705-1757332800-1757334600@marksimmonsauthor.co.uk
SUMMARY:Talking on the Tony Snell show
DESCRIPTION:I will be talking on the Tony Snell show BBC Radio Merseyside about Ian Fleming’s War on Monday 8 September at 12.20
URL:https://marksimmonsauthor.co.uk/event/talking-on-the-tony-snell-show/
END:VEVENT
BEGIN:VEVENT
DTSTART;VALUE=DATE:20250629
DTEND;VALUE=DATE:20250630
DTSTAMP:20260425T140441
CREATED:20250516T132917Z
LAST-MODIFIED:20250516T132917Z
UID:1602-1751155200-1751241599@marksimmonsauthor.co.uk
SUMMARY:Jaguar Enthusiasts Club Tamar Region Jag Day
DESCRIPTION:
URL:https://marksimmonsauthor.co.uk/event/jaguar-enthusiasts-club-tamar-region-jag-day/
END:VEVENT
BEGIN:VEVENT
DTSTART;VALUE=DATE:20250629
DTEND;VALUE=DATE:20250630
DTSTAMP:20260425T140441
CREATED:20250419T113811Z
LAST-MODIFIED:20250516T132518Z
UID:1331-1751155200-1751241599@marksimmonsauthor.co.uk
SUMMARY:Tamar Region Jaguar Enthusiasts Day
DESCRIPTION:The Tamar Region Jaguar Enthusiasts Day will be held at Buckfastleigh Station Devon TQ11 0DZ southdevonrailway.co.uk \non 29 June starting at 10am all aboard for a great day out other makes of classic cars welcome I  will be running the book shop weather permitting
URL:https://marksimmonsauthor.co.uk/event/tamar-region-jaguar-enthusiasts-day/
CATEGORIES:Author visit
END:VEVENT
BEGIN:VEVENT
DTSTART;VALUE=DATE:20250517
DTEND;VALUE=DATE:20250518
DTSTAMP:20260425T140441
CREATED:20250122T105845Z
LAST-MODIFIED:20250122T105845Z
UID:1275-1747440000-1747526399@marksimmonsauthor.co.uk
SUMMARY:Callington Book Fair 17 May
DESCRIPTION:The Callington Book Fair Saturday May 17th 10am-3pm. \nMeet the authors and a wide selection of books on sale to suit all pockets. \nRefreshments on site tasty homemade cakes etc.
URL:https://marksimmonsauthor.co.uk/event/callington-book-fair-17-may/
END:VEVENT
BEGIN:VEVENT
DTSTART;TZID=UTC:20250322T100000
DTEND;TZID=UTC:20250322T160000
DTSTAMP:20260425T140441
CREATED:20250122T105648Z
LAST-MODIFIED:20250122T105648Z
UID:1284-1742637600-1742659200@marksimmonsauthor.co.uk
SUMMARY:Duloe Spring Craft Fair
DESCRIPTION:Duloe Spring Craft Fair at the Duloe Jubilee Centre PL14 4PA Saturday 22 March 10am-4pm \nWill be selling my books come and meet the author.
URL:https://marksimmonsauthor.co.uk/event/duloe-spring-craft-fair/
END:VEVENT
BEGIN:VEVENT
DTSTART;TZID=UTC:20250320T190000
DTEND;TZID=UTC:20250320T200000
DTSTAMP:20260425T140441
CREATED:20250207T115632Z
LAST-MODIFIED:20250207T115632Z
UID:1291-1742497200-1742500800@marksimmonsauthor.co.uk
SUMMARY:Talk : How a race inspired a novel
DESCRIPTION:Talk to the Cornwall section of the Jaguar Enthusiast’s Club at the Crown Inn Lanlivery \nOn how a race the Mille Miglia inspired a novel Thursday 20 March start time 7 pm.
URL:https://marksimmonsauthor.co.uk/event/talk-how-a-race-inspired-a-novel/
END:VEVENT
BEGIN:VEVENT
DTSTART;VALUE=DATE:20250221
DTEND;VALUE=DATE:20250223
DTSTAMP:20260425T140441
CREATED:20250122T100407Z
LAST-MODIFIED:20250122T100407Z
UID:1270-1740096000-1740268799@marksimmonsauthor.co.uk
SUMMARY:Sepsis Trust Gift Fayre & Book Sale
DESCRIPTION:The UK Sepsis Trust Gift  Fayre & Book Sale February 21st & 22nd 10am-5pm Free Entry please note new venue \nSt Matins Church Centre\, Liskeard \nWill be selling my own books and a selection of second hand books.
URL:https://marksimmonsauthor.co.uk/event/sepsis-trust-gift-fayre-book-sale/
END:VEVENT
BEGIN:VEVENT
DTSTART;TZID=UTC:20250126T100000
DTEND;TZID=UTC:20250126T130000
DTSTAMP:20260425T140441
CREATED:20250121T165154Z
LAST-MODIFIED:20250122T110456Z
UID:1264-1737885600-1737896400@marksimmonsauthor.co.uk
SUMMARY:Lostwithiel Toy Fair
DESCRIPTION:Lostwithiel Toy Fair 2025 kicks off Sunday 26 January at the Lostwithiel Community Centre PL22 0HA 10am-1pm Adults £2 entre Children Free \nWill be selling my books and model car conversions there. Other dates all Sunday’s 30th March\, 25th May\, 27th July\, 28th September\, 30th November.
URL:https://marksimmonsauthor.co.uk/event/lostwithiel-toy-fair-2/
END:VEVENT
BEGIN:VEVENT
DTSTART;TZID=UTC:20250114T100000
DTEND;TZID=UTC:20250114T120000
DTSTAMP:20260425T140441
CREATED:20240807T183817Z
LAST-MODIFIED:20240807T183817Z
UID:1157-1736848800-1736856000@marksimmonsauthor.co.uk
SUMMARY:Talk on Ian Fleming's War to the Callington New Outlook Group
DESCRIPTION:Tuesday 14th January at 10am a talk on Ian Fleming’s War \nto the Callington New Outlook Group in the Council Chamber \nIn the Calligton Town Hall.
URL:https://marksimmonsauthor.co.uk/event/talk-on-ian-flemings-war-to-the-callington-new-outlook-group/
END:VEVENT
BEGIN:VEVENT
DTSTART;TZID=Europe/London:20241109T100000
DTEND;TZID=Europe/London:20241109T140000
DTSTAMP:20260425T140441
CREATED:20241104T203918Z
LAST-MODIFIED:20241104T204108Z
UID:1206-1731146400-1731160800@marksimmonsauthor.co.uk
SUMMARY:Duloe bake sale and craft stalls
DESCRIPTION:Duloe Jubilee Community Centre Bake sale and craft stalls will be selling my books there.
URL:https://marksimmonsauthor.co.uk/event/duloe-bake-sale-and-craft-stalls/
END:VEVENT
BEGIN:VEVENT
DTSTART;TZID=UTC:20241102T100000
DTEND;TZID=UTC:20241102T153000
DTSTAMP:20260425T140441
CREATED:20231211T101529Z
LAST-MODIFIED:20231211T101529Z
UID:1059-1730541600-1730561400@marksimmonsauthor.co.uk
SUMMARY:Autumn 2024 Callington Book Fair
DESCRIPTION:The 2024 Autumn Callington Book Fair now in its 20th year will have the usual book dealers and authors on hand. Refreshments will be \non site. More to follow
URL:https://marksimmonsauthor.co.uk/event/autumn-2024-callington-book-fair/
CATEGORIES:Author visit
END:VEVENT
BEGIN:VEVENT
DTSTART;TZID=UTC:20241027T100000
DTEND;TZID=UTC:20241027T130000
DTSTAMP:20260425T140441
CREATED:20241022T093802Z
LAST-MODIFIED:20241022T093802Z
UID:1198-1730023200-1730034000@marksimmonsauthor.co.uk
SUMMARY:Lostwithiel Toy Fair
DESCRIPTION:Will be selling my books at this event along with some of my model car conversions.
URL:https://marksimmonsauthor.co.uk/event/lostwithiel-toy-fair/
END:VEVENT
BEGIN:VEVENT
DTSTART;TZID=UTC:20241017T200000
DTEND;TZID=UTC:20241017T210000
DTSTAMP:20260425T140441
CREATED:20240910T144246Z
LAST-MODIFIED:20240910T144246Z
UID:1184-1729195200-1729198800@marksimmonsauthor.co.uk
SUMMARY:Millie Miglia Talk to Cornwall Jaguar Group
DESCRIPTION:Talk ‘How a race inspired a novel’ the race being the Millie Miglia the novel  ‘The Serpent and the Cross’ \nfirst published in 2010 and now in its third edition. Talk at the Victoria Inn Roach
URL:https://marksimmonsauthor.co.uk/event/millie-miglia-talk-to-cornwall-jaguar-group/
END:VEVENT
BEGIN:VEVENT
DTSTART;TZID=UTC:20240918T140000
DTEND;TZID=UTC:20240918T160000
DTSTAMP:20260425T140441
CREATED:20240708T134523Z
LAST-MODIFIED:20240708T134523Z
UID:1149-1726668000-1726675200@marksimmonsauthor.co.uk
SUMMARY:Pensilva Wednesday Club talk Ian Fleming's War
DESCRIPTION:A talk at Pensilva Village Hall to the Wednesday Club on the 18 September 2024 starting 2p.m. \non Ian Fleming’s War.
URL:https://marksimmonsauthor.co.uk/event/pensilva-wednesday-club-talk-ian-flemings-war/
END:VEVENT
BEGIN:VEVENT
DTSTART;VALUE=DATE:20240728
DTEND;VALUE=DATE:20240729
DTSTAMP:20260425T140441
CREATED:20240705T094805Z
LAST-MODIFIED:20240705T094805Z
UID:1145-1722124800-1722211199@marksimmonsauthor.co.uk
SUMMARY:Book Stall  at the Jaguar Enthusiasts Club Tamar Region Jaguar Day
DESCRIPTION:Will be selling my own books and others at the Jaguar Day Bukfastleigh Station 10:00-16:00 Sunday 28th July 2024 \nMore details for the show at brian.tamarjec@gmail.com and contact www.southdevonrailway.co.uk
URL:https://marksimmonsauthor.co.uk/event/book-stall-at-the-jaguar-enthusiasts-club-tamar-region-jaguar-day/
END:VEVENT
END:VCALENDAR