BEGIN:VCALENDAR
VERSION:2.0
PRODID:-//Mark Simmons Author - ECPv6.15.20//NONSGML v1.0//EN
CALSCALE:GREGORIAN
METHOD:PUBLISH
X-WR-CALNAME:Mark Simmons Author
X-ORIGINAL-URL:https://marksimmonsauthor.co.uk
X-WR-CALDESC:Events for Mark Simmons Author
REFRESH-INTERVAL;VALUE=DURATION:PT1H
X-Robots-Tag:noindex
X-PUBLISHED-TTL:PT1H
BEGIN:VTIMEZONE
TZID:UTC
BEGIN:STANDARD
TZOFFSETFROM:+0000
TZOFFSETTO:+0000
TZNAME:UTC
DTSTART:20250101T000000
END:STANDARD
END:VTIMEZONE
BEGIN:VEVENT
DTSTART;TZID=UTC:20260928T080000
DTEND;TZID=UTC:20261004T170000
DTSTAMP:20260424T020924
CREATED:20260217T163039Z
LAST-MODIFIED:20260217T163039Z
UID:1900-1790582400-1791133200@marksimmonsauthor.co.uk
SUMMARY:Looe Festival of Words 2026
DESCRIPTION:Our second year at this event let’s hope it is as good as the first running from 28 September-4 October my appearances to be advised.
URL:https://marksimmonsauthor.co.uk/event/looe-festival-of-words-2026/
ATTACH;FMTTYPE=image/webp:https://marksimmonsauthor.co.uk/wp-content/uploads/2026/02/Hannafore.webp
END:VEVENT
END:VCALENDAR