BEGIN:VCALENDAR
VERSION:2.0
PRODID:-//Mark Simmons Author - ECPv6.15.20//NONSGML v1.0//EN
CALSCALE:GREGORIAN
METHOD:PUBLISH
X-ORIGINAL-URL:https://marksimmonsauthor.co.uk
X-WR-CALDESC:Events for Mark Simmons Author
REFRESH-INTERVAL;VALUE=DURATION:PT1H
X-Robots-Tag:noindex
X-PUBLISHED-TTL:PT1H
BEGIN:VTIMEZONE
TZID:UTC
BEGIN:STANDARD
TZOFFSETFROM:+0000
TZOFFSETTO:+0000
TZNAME:UTC
DTSTART:20250101T000000
END:STANDARD
END:VTIMEZONE
BEGIN:VEVENT
DTSTART;VALUE=DATE:20260502
DTEND;VALUE=DATE:20260503
DTSTAMP:20260423T193534
CREATED:20251226T144320Z
LAST-MODIFIED:20251226T144320Z
UID:1788-1777680000-1777766399@marksimmonsauthor.co.uk
SUMMARY:Callington Book Fair Spring 2026
DESCRIPTION:Will be selling my books and a selection of S/H books at the Callington Book Fair the Town Hall Callington Saturday 2 May 10am-4pm
URL:https://marksimmonsauthor.co.uk/event/callington-book-fair-spring-2026/
CATEGORIES:Author visit
END:VEVENT
END:VCALENDAR