BEGIN:VCALENDAR
VERSION:2.0
PRODID:-//Mark Simmons Author - ECPv6.15.20//NONSGML v1.0//EN
CALSCALE:GREGORIAN
METHOD:PUBLISH
X-WR-CALNAME:Mark Simmons Author
X-ORIGINAL-URL:https://marksimmonsauthor.co.uk
X-WR-CALDESC:Events for Mark Simmons Author
REFRESH-INTERVAL;VALUE=DURATION:PT1H
X-Robots-Tag:noindex
X-PUBLISHED-TTL:PT1H
BEGIN:VTIMEZONE
TZID:UTC
BEGIN:STANDARD
TZOFFSETFROM:+0000
TZOFFSETTO:+0000
TZNAME:UTC
DTSTART:20240101T000000
END:STANDARD
END:VTIMEZONE
BEGIN:VEVENT
DTSTART;VALUE=DATE:20251004
DTEND;VALUE=DATE:20251005
DTSTAMP:20260424T040919
CREATED:20250703T134531Z
LAST-MODIFIED:20250703T134531Z
UID:1644-1759536000-1759622399@marksimmonsauthor.co.uk
SUMMARY:Appearing at Looe Festival of Words Book Fair
DESCRIPTION:Will be appearing at Looe Festival of Words Book Fair at the Hannafore Point Hotel on Saturday 4 October 10am-4pm talking about my books and a lot besides. More details at looefestivalofwords@outlook.com
URL:https://marksimmonsauthor.co.uk/event/appearing-at-looe-festival-of-words-book-fair/
END:VEVENT
END:VCALENDAR