BEGIN:VCALENDAR
VERSION:2.0
PRODID:-//Mark Simmons Author - ECPv6.15.20//NONSGML v1.0//EN
CALSCALE:GREGORIAN
METHOD:PUBLISH
X-ORIGINAL-URL:https://marksimmonsauthor.co.uk
X-WR-CALDESC:Events for Mark Simmons Author
REFRESH-INTERVAL;VALUE=DURATION:PT1H
X-Robots-Tag:noindex
X-PUBLISHED-TTL:PT1H
BEGIN:VTIMEZONE
TZID:UTC
BEGIN:STANDARD
TZOFFSETFROM:+0000
TZOFFSETTO:+0000
TZNAME:UTC
DTSTART:20240101T000000
END:STANDARD
END:VTIMEZONE
BEGIN:VEVENT
DTSTART;TZID=UTC:20250908T120000
DTEND;TZID=UTC:20250908T123000
DTSTAMP:20260424T060635
CREATED:20250818T090920Z
LAST-MODIFIED:20250818T090920Z
UID:1705-1757332800-1757334600@marksimmonsauthor.co.uk
SUMMARY:Talking on the Tony Snell show
DESCRIPTION:I will be talking on the Tony Snell show BBC Radio Merseyside about Ian Fleming’s War on Monday 8 September at 12.20
URL:https://marksimmonsauthor.co.uk/event/talking-on-the-tony-snell-show/
END:VEVENT
END:VCALENDAR